BEGIN:VCALENDAR
VERSION:2.0
PRODID:-//NACG - ECPv6.15.20//NONSGML v1.0//EN
CALSCALE:GREGORIAN
METHOD:PUBLISH
X-WR-CALNAME:NACG
X-ORIGINAL-URL:https://nacg.org
X-WR-CALDESC:Events for NACG
REFRESH-INTERVAL;VALUE=DURATION:PT1H
X-Robots-Tag:noindex
X-PUBLISHED-TTL:PT1H
BEGIN:VTIMEZONE
TZID:America/New_York
BEGIN:DAYLIGHT
TZOFFSETFROM:-0500
TZOFFSETTO:-0400
TZNAME:EDT
DTSTART:20210314T070000
END:DAYLIGHT
BEGIN:STANDARD
TZOFFSETFROM:-0400
TZOFFSETTO:-0500
TZNAME:EST
DTSTART:20211107T060000
END:STANDARD
BEGIN:DAYLIGHT
TZOFFSETFROM:-0500
TZOFFSETTO:-0400
TZNAME:EDT
DTSTART:20220313T070000
END:DAYLIGHT
BEGIN:STANDARD
TZOFFSETFROM:-0400
TZOFFSETTO:-0500
TZNAME:EST
DTSTART:20221106T060000
END:STANDARD
BEGIN:DAYLIGHT
TZOFFSETFROM:-0500
TZOFFSETTO:-0400
TZNAME:EDT
DTSTART:20230312T070000
END:DAYLIGHT
BEGIN:STANDARD
TZOFFSETFROM:-0400
TZOFFSETTO:-0500
TZNAME:EST
DTSTART:20231105T060000
END:STANDARD
END:VTIMEZONE
BEGIN:VEVENT
DTSTART;TZID=America/New_York:20221213T120000
DTEND;TZID=America/New_York:20221213T133000
DTSTAMP:20260422T214323
CREATED:20220902T175556Z
LAST-MODIFIED:20250221T200004Z
UID:6112-1670932800-1670938200@nacg.org
SUMMARY:The Rhythm of Emotion: The Use of Music Therapy to Give Voice to Grieving Children & Adolescents
DESCRIPTION:This presentation will explore the use of music therapy as a powerful tool for grieving children and adolescents. Participants will have the opportunity to gain information and knowledge about the interconnection between child and adolescent grief and music therapy\, discover ways of incorporating music therapy techniques with this population through clinical examples and guided practice\, and engage in music therapy experiences that may be used in self-exploration of their own grief journey. \nThis playback is available to active NACG members only. \n \nMembers must be logged into the member portal to access the playback. Not currently a member? Become a NACG member today! Your membership will provide access to free monthly webinars with CEs on current topics to support you in your work\, discounts on educational events\, access to all webinar playbacks\, and more. To learn more and become a member to access this webinar for no additional cost\, visit HERE → \n  \nContinuing Education (CE) credits are not available for webinar playbacks. \nTarget Audience: Counselors\, Social workers\, Bereavement support professionals\nInstructional Level: Intermediate – This best describes a topic or issue that the audience likely has atheoretical foundation for understanding and/or a working knowledge.\nFormat: Live Interactive Webinar \n  \nObjectives:\nAfter attending this webinar\, participants will be able to: \n\nDefine music therapy.\nDiscuss the role of music therapy in grief and bereavement.\nDescribe 3 music therapy experiences that can be used in child and adolescent grief.\n\n\n  \nSpeaker Bios:\nAmy Entwistle\, MMT\, MT-BC\, a board-certified music therapist\, is a Child and Adolescent Grief Coordinator at Four Seasons. Amy graduated with a bachelor’s degree in music performance with a minor in psychology from High Point University. She earned her Master of Music Therapy degree from Appalachian State University. She has worked as a hospice music therapist and bereavement counselor. Amy uses a body-mind-centered approach and various creative art modalities to meet the needs of grieving children\, adolescents\, and their families. \n  \n \nSupported by the philanthropic investment\nof the New York Life Foundation. \n  \n\n  \nCE Provider Information:\nCE Process Info: Each professional is responsible for the individual requirements as stipulated by his/her licensing agency. Please contact your individual licensing board/regulatory agency to review continuing education requirements for licensure renewal. Please note: You must attend “live” (in real-time) to earn CE credits. If you have any questions or concerns regarding the CE process\, please contact Dr. Adam Carter at adam.carter@childrengrieve.org. \nThe National Alliance for Children’s Grief has been approved by NBCC as an Approved Continuing Education Provider\, ACEP No. 7221. Programs that do not qualify for NBCC credit are clearly identified. The National Alliance for Children’s Grief is solely responsible for all aspects of the programs. Counselors completing all three sessions of this conference will receive 1.5 contact hours. \nThe National Alliance for Children’s Grief is recognized by the New York State Education Department’s State Board for Social Work as an approved provider of continuing education for licensed social workers #SW-0689. Social Workers completing all three sessions of this conference will receive 1.5 contact hours. \nThe National Alliance for Children’s Grief is recognized by the New York State Education Department’s State Board for Mental Health Practitioners as an approved provider of continuing education for licensed mental health counselors. #MHC-0238. Counselors completing all three sessions of this conference will receive 1.5 contact hours. \nNational Alliance for Children’s Grief\, #1819\, is approved to offer social work continuing education by the Association of Social Work Boards (ASWB) Approved Continuing Education (ACE) program. Organizations\, not individual courses\, are approved as ACE providers.  State and provincial regulatory boards have the final authority to determine whether an individual course may be accepted for continuing education credit. National Alliance for Children’s Grief maintains responsibility for this course.  ACE provider approval period: 07/20/2022 – 07/20/2023.   Social workers completing this course will receive 1.5 continuing education credits. \nRefund/cancellation policy: If you need to cancel your registration\, please email info@childrengrieve.org or call (866) 432-1542. Please note that no refunds will be given. \nTo request accessibility accommodations: ADA accommodations will be made in accordance with the law; please indicate your special needs when you register by sending an email to info@childrengrieve.org or call (866) 432-1542. \nAttendance policy: To earn CE units for this event\, you must attend the entirety of a session\, as demonstrated by your signature on the sign-in/out sheet\, and complete an online event evaluation. \nGrievance policy: To view the NACG’s Continuing Education Grievance Policy\, you can find it HERE.
URL:https://nacg.org/event/the-rhythm-of-emotion-the-use-of-music-therapy-to-give-voice-to-grieving-children-adolescents/
LOCATION:Zoom
CATEGORIES:Live Interactive Webinar,Members Only Playback
END:VEVENT
BEGIN:VEVENT
DTSTART;TZID=America/New_York:20221215T140000
DTEND;TZID=America/New_York:20221215T150000
DTSTAMP:20260422T214323
CREATED:20220927T194902Z
LAST-MODIFIED:20230517T162917Z
UID:6322-1671112800-1671116400@nacg.org
SUMMARY:2022 Data and Evaluation Training Series #3: Theory of Change Live Interactive Webinar
DESCRIPTION:Click here to view the slides →\nThis session is part of the Data and Evaluation Training Series\, to view the other sessions: \nSession 1: Data Basics\nSession 2: Program Evaluation Basics\nThis session – Session 3: Theory of Change\nSession 4: Program Evaluation Planning \nThis workshop on Theory of Change will focus on how organizations can define their program model and why going through a theory of change process\, including creating a logic model\, is the first step in developing evaluation and data collection plans. Presenters will provide key information on what theory of change and logic modeling is. Presenters will discuss the purpose of conducting a theory of change process and how it helps organizations in reaching goals. The workshop will review the core steps in conducting a theory of change process\, enabling participants to walk away with clear next steps for how to implement this important evaluation best practice to inform their work. \nGiven limited resources and stretched capacity\, data collection procedures and program evaluation strategies at the individual program level often fall short in terms of identifying gaps in service\, areas for growth\, and program impact. Today\, philanthropic giving demands quantifiable return on investment in exchange for donations and grants. Combining nearly 20 years of experience in designing bereavement-focused evaluation protocols with the power of the CBEM\, with philanthropic support provided by the New York Life Foundation and in collaboration with the National Alliance for Children’s Grief (NACG)\, Judi’s House/JAG Institute offers a series of free trainings to share best practices in data collection and program evaluation. \nCE Total: 1\nTarget Audience: Counselors\, Social workers\, Bereavement support professionals\nInstructional Level: Basic\nFormat: Live Interactive Webinar \nObjectives:\nBy the end of this presentation\, participants will be able to: \n\nSummarize the purpose of conducting a theory of change process.\nIdentify the core steps of theory of change/logic modeling.\nExplain how to use the theory of change and logic models to achieve evaluation goals.\n\n  \nSpeaker Bio:\nLaura Landry\, PhD is the Director of Evaluation and Research at Judi’s House/JAG Institute. She has 15 years experience evaluating community-based programs and large-scale prevention initiatives\, as well as building the capacity of organizations to utilize data to drive decisions. In addition to heading the organization’s Childhood Bereavement Changemaker Initiative\, Laura oversees the Evaluation and Research Department. Her work focuses on evaluating Judi’s House services\, building evaluation/data utilization capacity in the field\, and disseminating the prevalence of childhood bereavement to inform advocates and practitioners working in the field. \n  \nCE Provider Information:\nEach professional is responsible for the individual requirements as stipulated by their licensing agency. Please contact your individual licensing board/regulatory agency to review continuing education requirements for licensure renewal. Please note: You must attend “live” (in real-time) to earn CEs. If you have any questions or concerns regarding the CE process\, please contact Adam Carter at adam.carter@childrengrieve.org or at 980-298-1155. \nThe National Alliance for Children’s Grief has been approved by NBCC as an Approved Continuing Education Provider\, ACEP No. 7221. Programs that do not qualify for NBCC credit are clearly identified. The National Alliance for Children’s Grief is solely responsible for all aspects of the programs. Counselors completing all three sessions of this conference will receive 1 contact hour. \nThe National Alliance for Children’s Grief is recognized by the New York State Education Department’s State Board for Social Work as an approved provider of continuing education for licensed social workers #SW-0689. Social Workers completing this event will receive 1 contact hour. \nThe National Alliance for Children’s Grief is recognized by the New York State Education Department’s State Board for Mental Health Practitioners as an approved provider of continuing education for licensed mental health counselors. #MHC-0238. Counselors completing all three sessions of this conference will receive 1 contact hour. \nNational Alliance for Children’s Grief\, #1819\, is approved to offer social work continuing education by the Association of Social Work Boards (ASWB) Approved Continuing Education (ACE) program. Organizations\, not individual courses\, are approved as ACE providers.  State and provincial regulatory boards have the final authority to determine whether an individual course may be accepted for continuing education credit. National Alliance for Children’s Grief maintains responsibility for this course.  ACE provider approval period: 07/20/2022 – 07/20/2023.   Counselors completing this course will receive 1 continuing education credit. \nRefund/cancellation policy: If you need to cancel your registration\, please contact Adam Carter at adam.carter@childrengrieve.org or at 980-298-1155. Please note that no refunds will be given. \nTo request accessibility accommodations: The National Alliance for Children’s Grief is committed to providing universal access to all our events. Please contact Adam Carter at adam.carter@childrengrieve.org or at 980-298-1155 to request disability accommodations. Advance notice is necessary to arrange for some accessibility needs. \nAttendance policy:  To earn CEs for this event\, you must attend the entirety of the event as demonstrated by your autogenerated login and logout time on the Zoom Webinar report and complete an online event evaluation within seven (7) days of the event. Please make sure you are signed into Zoom using the name that matches your professional license and not the name of your place of employment\, as there is no way to verify your attendance after the fact if your name does not appear on the Zoom Webinar report. \nGrievance policy:  To view the NACG’s Continuing Education Grievance Policy\, you can find it HERE.
URL:https://nacg.org/event/data-and-evaluation-training-series-theory-of-change-live-interactive-webinar/
LOCATION:Zoom
CATEGORIES:Live Interactive Webinar
END:VEVENT
END:VCALENDAR