BEGIN:VCALENDAR
VERSION:2.0
PRODID:-//NACG - ECPv6.15.20//NONSGML v1.0//EN
CALSCALE:GREGORIAN
METHOD:PUBLISH
X-WR-CALNAME:NACG
X-ORIGINAL-URL:https://nacg.org
X-WR-CALDESC:Events for NACG
REFRESH-INTERVAL;VALUE=DURATION:PT1H
X-Robots-Tag:noindex
X-PUBLISHED-TTL:PT1H
BEGIN:VTIMEZONE
TZID:America/New_York
BEGIN:DAYLIGHT
TZOFFSETFROM:-0500
TZOFFSETTO:-0400
TZNAME:EDT
DTSTART:20220313T070000
END:DAYLIGHT
BEGIN:STANDARD
TZOFFSETFROM:-0400
TZOFFSETTO:-0500
TZNAME:EST
DTSTART:20221106T060000
END:STANDARD
BEGIN:DAYLIGHT
TZOFFSETFROM:-0500
TZOFFSETTO:-0400
TZNAME:EDT
DTSTART:20230312T070000
END:DAYLIGHT
BEGIN:STANDARD
TZOFFSETFROM:-0400
TZOFFSETTO:-0500
TZNAME:EST
DTSTART:20231105T060000
END:STANDARD
BEGIN:DAYLIGHT
TZOFFSETFROM:-0500
TZOFFSETTO:-0400
TZNAME:EDT
DTSTART:20240310T070000
END:DAYLIGHT
BEGIN:STANDARD
TZOFFSETFROM:-0400
TZOFFSETTO:-0500
TZNAME:EST
DTSTART:20241103T060000
END:STANDARD
END:VTIMEZONE
BEGIN:VEVENT
DTSTART;TZID=America/New_York:20230517T120000
DTEND;TZID=America/New_York:20230517T133000
DTSTAMP:20260422T150020
CREATED:20230222T152724Z
LAST-MODIFIED:20250221T195717Z
UID:7215-1684324800-1684330200@nacg.org
SUMMARY:Using Fictional Characters to Help Children and Adolescents Who Are Grieving Live Interactive Webinar
DESCRIPTION:Reading about fictional characters’ grief and loss experiences can help children and adolescents deal with their own grief and loss. Many stories written for children and adolescents\, like the Harry Potter books\, are filled with loss and death. But literature\, like magic\, can open new worlds for people\, and show many possible ways to survive losses and challenges and even flourish beyond them. Using reading and storytelling to help improve a person’s mental health is often referred to as bibliotherapy. This session will present activities based on J.K. Rowling’s Harry Potter series to help children and adolescents deal with grief and loss\, as well as activities based on other books to help children who are grieving (including Everett Anderson’s Long Goodbye\, Charlotte’s Web\, Where the Red Fern Grows\, and The Hunger Games). The session’s goal is to give participants many practical individual and group activities\, including discussion questions\, worksheets\, and crafts\, that can help children who are grieving. \nThis playback is available to active NACG members only. \n \nMembers must be logged into the member portal to access the playback. Not currently a member? Become a NACG member today! Your membership will provide access to free monthly webinars with CEs on current topics to support you in your work\, discounts on educational events\, access to all webinar playbacks\, and more. To learn more and become a member to access this webinar for no additional cost\, visit HERE → \n  \nContinuing Education (CE) credits are not available for webinar playbacks. \nTarget Audience: Counselors\, Social workers\, Bereavement support professionals\nInstructional Level: Basic – This best describes a topic or issue that the prospective audience is encountering for the first time in a meaningful way.\nFormat: Live Interactive Webinar \n  \nObjectives:\nAfter attending this webinar\, participants will be able to: \n\nSummarize how bibliotherapy can help children and adolescents who are grieving.\nDescribe how reading the fictional works presented may help children who are grieving.\nDiscuss specific activities using fictional characters that may be helpful for specific age levels and situations of children who are grieving.\n\n\n  \nSpeaker Bios:\nKathryn Markell\, PhD teaches Child and Adolescent Development and Death and Dying classes at Anoka-Ramsey Community College. She has published and presented scholarly work on how to help grieving children and adolescents\, including co-authoring the book “The Children Who Lived: Using Harry Potter and Other Fictional Characters to Help Grieving Children and Adolescents”. \nMarc Markell\, PhD teaches at Worsham College of Mortuary Science; he is also a professor emeritus at St. Cloud State University. He teaches Death Education for non-grieving children. Marc is a certified Thanatologist and Death and Grief Studies. He presents locally\, nationally\, and internationally. Marc has published three books on grief\, as well as book chapters and numerous articles. \n  \n \nSupported by the philanthropic investment\nof the New York Life Foundation. \n  \n\n  \nCE Provider Information:\nEach professional is responsible for the individual requirements as stipulated by their licensing agency. Please contact your individual licensing board/regulatory agency to review continuing education requirements for licensure renewal. Please note: You must attend “live” (in real-time) to earn CEs. If you have any questions or concerns regarding the CE process\, please contact Megan Lopez at megan.lopez@childrengrieve.org or at (432) 288-4688. \nThe National Alliance for Children’s Grief has been approved by NBCC as an Approved Continuing Education Provider\, ACEP No. 7221. Programs that do not qualify for NBCC credit are clearly identified. The National Alliance for Children’s Grief is solely responsible for all aspects of the programs. Counselors completing this course will receive 1.5 contact hours. \nThe National Alliance for Children’s Grief is recognized by the New York State Education Department’s State Board for Social Work as an approved provider of continuing education for licensed social workers #SW-0689. Social Workers completing this course will receive 1.5 contact hours. \nThe National Alliance for Children’s Grief is recognized by the New York State Education Department’s State Board for Mental Health Practitioners as an approved provider of continuing education for licensed mental health counselors. #MHC-0238. Counselors completing this course will receive 1.5 contact hours. \nNational Alliance for Children’s Grief\, #1819\, is approved to offer social work continuing education by the Association of Social Work Boards (ASWB) Approved Continuing Education (ACE) program. Organizations\, not individual courses\, are approved as ACE providers.  State and provincial regulatory boards have the final authority to determine whether an individual course may be accepted for continuing education credit. National Alliance for Children’s Grief maintains responsibility for this course.  ACE provider approval period: 07/20/2022 – 07/20/2023. Counselors completing this course will receive 1.5 continuing education credits. \nRefund/cancellation policy: If you need to cancel your registration\, please contact Megan Lopez at megan.lopez@childrengrieve.org or at (432) 288-4688. Please note that no refunds will be given. \nTo request accessibility accommodations: The National Alliance for Children’s Grief is committed to providing universal access to all our events. Please contact Megan Lopez at megan.lopez@childrengrieve.org or at (432) 288-4688 to request disability accommodations. Advance notice is necessary to arrange for some accessibility needs. \nAttendance policy: To earn CEs for this event\, you must attend the entirety of the event as demonstrated by your autogenerated login and logout time on the Zoom Webinar report and complete an online event evaluation within seven (7) days of the event. Please make sure you are signed into Zoom using the name that matches your professional license and not the name of your place of employment\, as there is no way to verify your attendance after the fact if your name does not appear on the Zoom Webinar report. \nGrievance policy: To view the NACG’s Continuing Education Grievance Policy\, you can find it HERE. Please complete THIS form to share a grievance with the NACG regarding a continuing education event.
URL:https://nacg.org/event/using-fictional-characters-to-help-children-and-adolescents-who-are-grieving/
LOCATION:Zoom
CATEGORIES:Live Interactive Webinar,Members Only Playback
END:VEVENT
END:VCALENDAR