BEGIN:VCALENDAR
VERSION:2.0
PRODID:-//NACG - ECPv6.15.20//NONSGML v1.0//EN
CALSCALE:GREGORIAN
METHOD:PUBLISH
X-ORIGINAL-URL:https://nacg.org
X-WR-CALDESC:Events for NACG
REFRESH-INTERVAL;VALUE=DURATION:PT1H
X-Robots-Tag:noindex
X-PUBLISHED-TTL:PT1H
BEGIN:VTIMEZONE
TZID:America/New_York
BEGIN:DAYLIGHT
TZOFFSETFROM:-0500
TZOFFSETTO:-0400
TZNAME:EDT
DTSTART:20220313T070000
END:DAYLIGHT
BEGIN:STANDARD
TZOFFSETFROM:-0400
TZOFFSETTO:-0500
TZNAME:EST
DTSTART:20221106T060000
END:STANDARD
BEGIN:DAYLIGHT
TZOFFSETFROM:-0500
TZOFFSETTO:-0400
TZNAME:EDT
DTSTART:20230312T070000
END:DAYLIGHT
BEGIN:STANDARD
TZOFFSETFROM:-0400
TZOFFSETTO:-0500
TZNAME:EST
DTSTART:20231105T060000
END:STANDARD
BEGIN:DAYLIGHT
TZOFFSETFROM:-0500
TZOFFSETTO:-0400
TZNAME:EDT
DTSTART:20240310T070000
END:DAYLIGHT
BEGIN:STANDARD
TZOFFSETFROM:-0400
TZOFFSETTO:-0500
TZNAME:EST
DTSTART:20241103T060000
END:STANDARD
END:VTIMEZONE
BEGIN:VEVENT
DTSTART;TZID=America/New_York:20230412T120000
DTEND;TZID=America/New_York:20230412T133000
DTSTAMP:20260423T100422
CREATED:20230306T171602Z
LAST-MODIFIED:20230731T192059Z
UID:7298-1681300800-1681306200@nacg.org
SUMMARY:2022 Data and Evaluation Training Series #4: Program Evaluation Planning
DESCRIPTION:Click here to view the slides →\nThis session is part of the 2022 Data and Evaluation Training Series. To view the other sessions\, click on the title below. \nSession 1: Data Basics\nSession 2: Program Evaluation Basics\nSession 3: Theory of Change\nThis session – Session 4: Program Evaluation Planning \nThis workshop on Evaluation Planning will focus on how organizations can develop an evaluation plan for their program\, including identifying key questions\, selecting a design\, measure mapping\, and protocol development. Presenters will discuss the purpose of creating an evaluation plan and how it helps organizations reach goals and will detail essential evaluation plan elements. The workshop will review the core steps in evaluation planning\, enabling participants to walk away with clear next steps for how to establish this important evaluation best practice to inform their work. Given limited resources and stretched capacity\, data collection procedures and program evaluation strategies at the individual program level often fall short in terms of identifying gaps in service\, areas for growth\, and program impact. Today\, philanthropic giving demands a quantifiable return on investment in exchange for donations and grants. Combining nearly 20 years of experience in designing bereavement-focused evaluation protocols with the power of the CBEM\, with philanthropic support provided by the New York Life Foundation and in collaboration with the National Alliance for Children’s Grief (NACG)\, Judi’s House/JAG Institute offers a series of free trainings to build evaluation capacity in the field\, sharing best practices in data collection and program evaluation. \n  \nCE Total: 1.5\nTarget Audience: Counselors\, Social workers\, Bereavement support professionals\nInstructional Level: Basic\nFormat: Live Interactive Webinar \n  \nObjectives:\nBy the end of this presentation\, participants will be able to: \n\nSummarize the purpose of developing an evaluation plan\nExplain how to use evaluation planning to achieve goals\nIdentify the essential elements of a good evaluation plan\n\n  \nSpeaker Bio:\nLaura Landry\, PhD is the Director of Evaluation and Research at Judi’s House/JAG Institute. She has 15 years experience evaluating community-based programs and large-scale prevention initiatives\, as well as building the capacity of organizations to utilize data to drive decisions. In addition to heading the organization’s Childhood Bereavement Changemaker Initiative\, Laura oversees the Evaluation and Research Department. Her work focuses on evaluating Judi’s House services\, building evaluation/data utilization capacity in the field\, and disseminating the prevalence of childhood bereavement to inform advocates and practitioners working in the field. \nMadeline (Maddy) Verheyden works as a Research Associate at Judi’s House/JAG Institute. In her role\, she helps lead the Childhood Bereavement Changemaker expansion\, collaborating with organizations across the country to support implementation of data-informed strategies in decision-making\, program implementation\, and evaluation. Maddy holds a Master’s Degree in Applied Psychology with concentrations in Evaluation Research and Industrial/Organizational Psychology from the University of Wisconsin-Stout. She can be reached at maddyv@judishouse.org. \n  \nCE Provider Information:\nEach professional is responsible for the individual requirements as stipulated by their licensing agency. Please contact your individual licensing board/regulatory agency to review continuing education requirements for licensure renewal. Please note: You must attend “live” (in real-time) to earn CEs. If you have any questions or concerns regarding the CE process\, please contact Megan Lopez at megan.lopez@childrengrieve.org or at (432) 288-4688. \nThe National Alliance for Children’s Grief has been approved by NBCC as an Approved Continuing Education Provider\, ACEP No. 7221. Programs that do not qualify for NBCC credit are clearly identified. The National Alliance for Children’s Grief is solely responsible for all aspects of the programs. Counselors completing this course will receive 1.5 contact hours. \nThe National Alliance for Children’s Grief is recognized by the New York State Education Department’s State Board for Social Work as an approved provider of continuing education for licensed social workers #SW-0689. Social Workers completing this course will receive 1.5 contact hours. \nThe National Alliance for Children’s Grief is recognized by the New York State Education Department’s State Board for Mental Health Practitioners as an approved provider of continuing education for licensed mental health counselors. #MHC-0238. Counselors completing this course will receive 1.5 contact hours. \nNational Alliance for Children’s Grief\, #1819\, is approved to offer social work continuing education by the Association of Social Work Boards (ASWB) Approved Continuing Education (ACE) program. Organizations\, not individual courses\, are approved as ACE providers.  State and provincial regulatory boards have the final authority to determine whether an individual course may be accepted for continuing education credit. National Alliance for Children’s Grief maintains responsibility for this course.  ACE provider approval period: 07/20/2022 – 07/20/2023. Counselors completing this course will receive 1.5 continuing education credits. \nRefund/cancellation policy: If you need to cancel your registration\, please contact Megan Lopez at megan.lopez@childrengrieve.org or at (432) 288-4688. Please note that no refunds will be given. \nTo request accessibility accommodations: The National Alliance for Children’s Grief is committed to providing universal access to all our events. Please contact Megan Lopez at megan.lopez@childrengrieve.org or at (432) 288-4688 to request disability accommodations. Advance notice is necessary to arrange for some accessibility needs. \nAttendance policy: To earn CEs for this event\, you must attend the entirety of the event as demonstrated by your autogenerated login and logout time on the Zoom Webinar report and complete an online event evaluation within seven (7) days of the event. Please make sure you are signed into Zoom using the name that matches your professional
URL:https://nacg.org/event/data-and-evaluation-training-series-program-evaluation-planning/
LOCATION:Zoom
CATEGORIES:Live Interactive Webinar
END:VEVENT
BEGIN:VEVENT
DTSTART;TZID=America/New_York:20230419T120000
DTEND;TZID=America/New_York:20230419T133000
DTSTAMP:20260423T100422
CREATED:20230227T192856Z
LAST-MODIFIED:20250221T195753Z
UID:7261-1681905600-1681911000@nacg.org
SUMMARY:The Intersection of Domestic Violence and the Grieving Process of Children
DESCRIPTION:Children who experience domestic violence are impacted at every level of their wellness. They can lose a caregiver or sibling(s) through separation\, housing stability\, and even the feeling of safety\, security\, and belonging\, all contributing to a child’s grief. This grief may be initially overlooked or dismissed as adults focus on establishing safety and meeting the basic needs of all involved. This webinar will teach professionals how domestic violence and grief are intertwined. The webinar will highlight how domestic violence impacts the grieving process\, particularly through secondary trauma and disenfranchised grief. \nThis playback is available to active NACG members only. \n \nMembers must be logged into the member portal to access the playback. Not currently a member? Become a NACG member today! Your membership will provide access to free monthly webinars with CEs on current topics to support you in your work\, discounts on educational events\, access to all webinar playbacks\, and more. To learn more and become a member to access this webinar for no additional cost\, visit HERE → \n  \nContinuing Education (CE) credits are not available for webinar playbacks. \nTarget Audience: Counselors\, Social workers\, Bereavement support professionals\nInstructional Level: Basic – This best describes a topic or issue that the prospective audience is encountering for the first time in a meaningful way.\nFormat: Live Interactive Webinar \n  \nObjectives:\nAfter attending this webinar\, participants will be able to: \n\nDescribe how secondary trauma from domestic violence impacts a child’s grieving process.\nDiscuss the intersection of disenfranchised grief with children who have experienced domestic violence.\nImplement 2-3 therapeutic interventions to assist children who have lost a parent/caregiver to domestic violence.\n\n\n  \nSpeaker Bios:\nSheree Burnett\, MA\, LPC-S is a Licensed Professional Counselor Supervisor. She has over 10 years of experience working with various populations in community mental health\, private practice\, hospital\, and university settings. She has particular training in working with trauma individuals and families who have experienced domestic violence. She has conducted didactic training\, participated in panel conferences\, assisted with developing a curriculum about domestic violence for the educational system\, and co-developed department initiatives to bring awareness about domestic violence and ways to celebrate survivors of domestic abuse. In addition\, Sheree has worked with and participated in training to assist children and their families about grief. She also obtained certification in Trauma-Focused Cognitive Behavioral Therapy which further allows her to assist survivors and grieving individuals with their healing journey in therapy. \n  \n \nSupported by the philanthropic investment\nof the New York Life Foundation. \n  \n\n  \nCE Provider Information:\nEach professional is responsible for the individual requirements as stipulated by their licensing agency. Please contact your individual licensing board/regulatory agency to review continuing education requirements for licensure renewal. Please note: You must attend “live” (in real-time) to earn CEs. If you have any questions or concerns regarding the CE process\, please contact Megan Lopez at megan.lopez@childrengrieve.org or at (432) 288-4688. \nThe National Alliance for Children’s Grief has been approved by NBCC as an Approved Continuing Education Provider\, ACEP No. 7221. Programs that do not qualify for NBCC credit are clearly identified. The National Alliance for Children’s Grief is solely responsible for all aspects of the programs. Counselors completing this course will receive 1.5 contact hours. \nThe National Alliance for Children’s Grief is recognized by the New York State Education Department’s State Board for Social Work as an approved provider of continuing education for licensed social workers #SW-0689. Social Workers completing this course will receive 1.5 contact hours. \nThe National Alliance for Children’s Grief is recognized by the New York State Education Department’s State Board for Mental Health Practitioners as an approved provider of continuing education for licensed mental health counselors. #MHC-0238. Counselors completing this course will receive 1.5 contact hours. \nNational Alliance for Children’s Grief\, #1819\, is approved to offer social work continuing education by the Association of Social Work Boards (ASWB) Approved Continuing Education (ACE) program. Organizations\, not individual courses\, are approved as ACE providers.  State and provincial regulatory boards have the final authority to determine whether an individual course may be accepted for continuing education credit. National Alliance for Children’s Grief maintains responsibility for this course.  ACE provider approval period: 07/20/2022 – 07/20/2023. Counselors completing this course will receive 1.5 continuing education credits. \nRefund/cancellation policy: If you need to cancel your registration\, please contact Megan Lopez at megan.lopez@childrengrieve.org or at (432) 288-4688. Please note that no refunds will be given. \nTo request accessibility accommodations: The National Alliance for Children’s Grief is committed to providing universal access to all our events. Please contact Megan Lopez at megan.lopez@childrengrieve.org or at (432) 288-4688 to request disability accommodations. Advance notice is necessary to arrange for some accessibility needs. \nAttendance policy: To earn CEs for this event\, you must attend the entirety of the event as demonstrated by your autogenerated login and logout time on the Zoom Webinar report and complete an online event evaluation within seven (7) days of the event. Please make sure you are signed into Zoom using the name that matches your professional license and not the name of your place of employment\, as there is no way to verify your attendance after the fact if your name does not appear on the Zoom Webinar report. \nGrievance policy: To view the NACG’s Continuing Education Grievance Policy\, you can find it HERE.
URL:https://nacg.org/event/the-intersection-of-domestic-violence-and-the-grieving-process-of-children/
LOCATION:Zoom
CATEGORIES:Live Interactive Webinar,Members Only Playback
END:VEVENT
END:VCALENDAR