BEGIN:VCALENDAR
VERSION:2.0
PRODID:-//NACG - ECPv6.15.20//NONSGML v1.0//EN
CALSCALE:GREGORIAN
METHOD:PUBLISH
X-WR-CALNAME:NACG
X-ORIGINAL-URL:https://nacg.org
X-WR-CALDESC:Events for NACG
REFRESH-INTERVAL;VALUE=DURATION:PT1H
X-Robots-Tag:noindex
X-PUBLISHED-TTL:PT1H
BEGIN:VTIMEZONE
TZID:America/New_York
BEGIN:DAYLIGHT
TZOFFSETFROM:-0500
TZOFFSETTO:-0400
TZNAME:EDT
DTSTART:20220313T070000
END:DAYLIGHT
BEGIN:STANDARD
TZOFFSETFROM:-0400
TZOFFSETTO:-0500
TZNAME:EST
DTSTART:20221106T060000
END:STANDARD
BEGIN:DAYLIGHT
TZOFFSETFROM:-0500
TZOFFSETTO:-0400
TZNAME:EDT
DTSTART:20230312T070000
END:DAYLIGHT
BEGIN:STANDARD
TZOFFSETFROM:-0400
TZOFFSETTO:-0500
TZNAME:EST
DTSTART:20231105T060000
END:STANDARD
BEGIN:DAYLIGHT
TZOFFSETFROM:-0500
TZOFFSETTO:-0400
TZNAME:EDT
DTSTART:20240310T070000
END:DAYLIGHT
BEGIN:STANDARD
TZOFFSETFROM:-0400
TZOFFSETTO:-0500
TZNAME:EST
DTSTART:20241103T060000
END:STANDARD
END:VTIMEZONE
BEGIN:VEVENT
DTSTART;TZID=America/New_York:20230816T120000
DTEND;TZID=America/New_York:20230816T133000
DTSTAMP:20260423T045036
CREATED:20230222T153138Z
LAST-MODIFIED:20250221T195250Z
UID:7219-1692187200-1692192600@nacg.org
SUMMARY:Facilitating Parent and Caregiver Support Groups
DESCRIPTION:Many children’s bereavement centers and programs across the United States offer concurrent support groups for parents and caregivers that are typically held during the same time as children and teen grief support groups are being offered. This presentation will cover practical tips for facilitating grief support groups for parents\, caregivers\, and other adults. Best practices for running adult groups will be discussed\, including group dynamics\, group cohesion\, and protecting the process. Additional topics include managing conflict and navigating challenging behaviors in groups\, such as advice-giving\, monopolizing\, interrupting\, or one-upping. Suggestions for effective ways to handle controversial topics when they arise in group will also be discussed. This presentation will include a discussion about providing grief support to parents and caregivers in a group setting while also providing helpful information to them about their children’s grief. Effective openings and closings will also be presented in this workshop. There will be plenty of time for questions and discussion. \nThis playback is available to active NACG members only. \n \nMembers must be logged into the member portal to access the playback. Not currently a member? Become a NACG member today! Your membership will provide access to free monthly webinars with CEs on current topics to support you in your work\, discounts on educational events\, access to all webinar playbacks\, and more. To learn more and become a member to access this webinar for no additional cost\, visit HERE → \n  \nContinuing Education (CE) credits are not available for webinar playbacks.\nTarget Audience: Counselors\, Social workers\, Bereavement support professionals\nInstructional Level: Basic – This best describes a topic or issue that the prospective audience is encountering for the first time in a meaningful way. \n  \nObjectives:\nAfter attending this webinar\, participants will be able to: \n\nList best practices for running parent and caregiver bereavement support groups.\nIdentify challenging behaviors that arise in adult support groups and effective ways to handle them.\nDiscuss effective ways to protect the process and manage conflict in a bereavement group for parents and caregivers.\n\nSpeaker Bio:\nPamela Gabbay\, EdD\, FT is a nationally recognized trainer and consultant who has served the bereavement field in many capacities during her 25-year career. Dr. Gabbay is currently the Director of Operations and Training for The Compassionate Friends and is on the TAPS Advisory Board. She is part of the training corps of the American Foundation for Suicide Prevention (AFSP). Dr. Gabbay has served in a variety of roles including being the Director of The Mourning Star Center for Grieving Children and Camp Erin\, Palm Springs. Dr. Gabbay is the co-author\, along with Andy McNiel\, of Understanding and Supporting Bereaved Children: A Practical Guide for Professionals. She is on the Executive Committee of ADEC’s Credentialing Council and served as the President of the Southern California Chapter of ADEC. Additionally\, Dr. Gabbay previously served as Vice President on the Board of the NACG. She was also an adjunct faculty member in the psychology department at Brandman University. Dr. Gabbay holds a Fellow in Thanatology (FT) from the Association for Death Education and Counseling (ADEC) and earned a Master of Arts degree in Cognitive Psychology from Claremont Graduate University. She earned her Doctor of Education degree in Organizational Leadership from Brandman University. \n  \n \nSupported by the philanthropic investment\nof the New York Life Foundation. \n  \n\n  \nContinuing Education (CE) Provider Information:\nEach professional is responsible for the individual requirements as stipulated by their licensing agency. Please contact your individual licensing board/regulatory agency to review continuing education requirements for licensure renewal. Please note: You must attend “live” (in real-time) to earn CEs. If you have any questions or concerns regarding the CE process\, please contact Megan Lopez at megan.lopez@childrengrieve.org or at (432) 288-4688. \nThe National Alliance for Children’s Grief has been approved by NBCC as an Approved Continuing Education Provider\, ACEP No. 7221. Programs that do not qualify for NBCC credit are clearly identified. The National Alliance for Children’s Grief is solely responsible for all aspects of the programs. Counselors completing this course will receive 1.5 contact hours. \nThe National Alliance for Children’s Grief is recognized by the New York State Education Department’s State Board for Social Work as an approved provider of continuing education for licensed social workers #SW-0689. Social Workers completing this course will receive 1.5 contact hours. \nThe National Alliance for Children’s Grief is recognized by the New York State Education Department’s State Board for Mental Health Practitioners as an approved provider of continuing education for licensed mental health counselors. #MHC-0238. Counselors completing this course will receive 1.5 contact hours. \nNational Alliance for Children’s Grief\, #1819\, is approved to offer social work continuing education by the Association of Social Work Boards (ASWB) Approved Continuing Education (ACE) program. Organizations\, not individual courses\, are approved as ACE providers.  State and provincial regulatory boards have the final authority to determine whether an individual course may be accepted for continuing education credit. National Alliance for Children’s Grief maintains responsibility for this course.  ACE provider approval period: 07/20/2023 – 07/20/2026. Counselors completing this course will receive 1.5 continuing education credits. \nRefund/cancellation policy: If you need to cancel your registration\, please contact Megan Lopez at megan.lopez@childrengrieve.org or at (432) 288-4688. Please note that no refunds will be given. \nTo request accessibility accommodations: The National Alliance for Children’s Grief is committed to providing universal access to all our events. Please contact Megan Lopez at megan.lopez@childrengrieve.org or at (432) 288-4688 to request disability accommodations. Advance notice is necessary to arrange for some accessibility needs. \nAttendance policy: To earn CEs for this event\, you must attend the entirety of the event as demonstrated by your autogenerated login and logout time on the Zoom Webinar report and complete an online event evaluation within seven (7) days of the event. Please make sure you are signed into Zoom using the name that matches your professional license and not the name of your place of employment\, as there is no way to verify your attendance after the fact if your name does not appear on the Zoom Webinar report. CE certificates will be sent out within 30 days of the educational event. The link for your certificate will come from “certificates@simplecert.net” as the National Alliance for Children’s Grief. Please be sure to add this email to your “safe sender list”. The NACG is unable to process certificates after 90 days from the date of the event.  \nGrievance policy:  To view the NACG’s Continuing Education Grievance Policy\, you can find it HERE. Please complete THIS form to share a grievance with the NACG regarding a continuing education event.
URL:https://nacg.org/event/facilitating-parents-and-caregiver-support-groups/
LOCATION:Zoom
CATEGORIES:Live Interactive Webinar,Members Only Playback
END:VEVENT
BEGIN:VEVENT
DTSTART;TZID=America/New_York:20230824T140000
DTEND;TZID=America/New_York:20230824T150000
DTSTAMP:20260423T045036
CREATED:20230504T185838Z
LAST-MODIFIED:20250922T141829Z
UID:8097-1692885600-1692889200@nacg.org
SUMMARY:2023 Data and Evaluation Training Series #2: Program Evaluation Basics
DESCRIPTION:Download the slides HERE →\nGiven limited resources and stretched capacity\, data collection procedures and program evaluation strategies at the individual program level often fall short in terms of identifying gaps in service\, areas for growth\, and program impact. Today\, philanthropic giving demands a quantifiable return on investment in exchange for donations and grants. Combining nearly 20 years of experience in designing bereavement-focused evaluation protocols with the power of the Childhood Bereavement Estimation Model (CBEM)\, with philanthropic support provided by the New York Life Foundation and in collaboration with the National Alliance for Children’s Grief (NACG)\, Judi’s House/JAG Institute offers a series of free trainings to share best practices in data collection and program evaluation. This session is the 2nd session of the series. \nThis workshop on Evaluation Basics will provide key information on what evaluation is and how participants can begin evaluating their programs. Presenters will discuss the purpose of evaluation\, how it helps organizations in reaching goals\, and why it’s important. The workshop will outline the two basic types of evaluation\, what questions they answer\, and what considerations should be made as organizations begin to evaluate. Presenters will review the core steps in conducting evaluation so participants will walk away with clear next steps for how to integrate evaluation into practice. \n  \nThis session is part of the 2023 Data and Evaluation Training Series. To view or register for the other sessions\, click on the title below. \nSession 1: Data Basics\nThis session – Session 2: Program Evaluation Basics\nSession 3: Theory of Change\nSession 4: Program Evaluation Planning \n  \nCE Total: 1 continuing education credit available\nTarget Audience: Counselors\, Social workers\, Bereavement support professionals\nInstructional Level: Basic – This best describes a topic or issue that the prospective audience is encountering for the first time in a meaningful way.\nFormat: Live Interactive Webinar \n  \nObjectives:\nBy the end of this presentation\, participants will be able to: \n\nExplain the purpose of program evaluation and why to evaluate.\nList the two types of program evaluation (process and outcome).\nIdentify the 5 core steps of implementing evaluation (ask\, plan\, act\, reflect\, improve).\n\n  \n  \nSpeaker Bio:\nLaura Landry\, PhD is the Director of Evaluation and Research at Judi’s House/JAG Institute. She has 15 years experience evaluating community-based programs and large-scale prevention initiatives\, as well as building the capacity of organizations to utilize data to drive decisions. In addition to heading the organization’s Childhood Bereavement Changemaker Initiative\, Laura oversees the Evaluation and Research Department. Her work focuses on evaluating Judi’s House services\, building evaluation/data utilization capacity in the field\, and disseminating the prevalence of childhood bereavement to inform advocates and practitioners working in the field. \nMadeline (Maddy) Verheyden Saunders works as a Research Associate at Judi’s House/JAG Institute. In her role\, she helps lead the Childhood Bereavement Changemaker expansion\, collaborating with organizations across the country to support implementation of data-informed strategies in decision-making\, program implementation\, and evaluation. Maddy holds a Master’s Degree in Applied Psychology with concentrations in Evaluation Research and Industrial/Organizational Psychology from the University of Wisconsin-Stout. She can be reached at maddyv@judishouse.org. \n  \nContinuing Education (CE) Provider Information:\nEach professional is responsible for the individual requirements as stipulated by their licensing agency. Please contact your individual licensing board/regulatory agency to review continuing education requirements for licensure renewal. Please note: You must attend “live” (in real-time) to earn CEs. If you have any questions or concerns regarding the CE process\, please contact Megan Lopez at megan.lopez@childrengrieve.org or at (432) 288-4688. \nThe National Alliance for Children’s Grief has been approved by NBCC as an Approved Continuing Education Provider\, ACEP No. 7221. Programs that do not qualify for NBCC credit are clearly identified. The National Alliance for Children’s Grief is solely responsible for all aspects of the programs. Counselors completing this course will receive 1.0 contact hours. \nThe National Alliance for Children’s Grief is recognized by the New York State Education Department’s State Board for Social Work as an approved provider of continuing education for licensed social workers #SW-0689. Social Workers completing this course will receive 1.0 contact hours. \nThe National Alliance for Children’s Grief is recognized by the New York State Education Department’s State Board for Mental Health Practitioners as an approved provider of continuing education for licensed mental health counselors. #MHC-0238. Counselors completing this course will receive 1.0 contact hours. \nNational Alliance for Children’s Grief\, #1819\, is approved to offer social work continuing education by the Association of Social Work Boards (ASWB) Approved Continuing Education (ACE) program. Organizations\, not individual courses\, are approved as ACE providers.  State and provincial regulatory boards have the final authority to determine whether an individual course may be accepted for continuing education credit. National Alliance for Children’s Grief maintains responsibility for this course.  ACE provider approval period: 07/20/2023 – 07/20/2026. Counselors completing this course will receive 1.0 continuing education credits. \nRefund/cancellation policy: If you need to cancel your registration\, please contact Megan Lopez at megan.lopez@childrengrieve.org or at (432) 288-4688. Please note that no refunds will be given. \nTo request accessibility accommodations: The National Alliance for Children’s Grief is committed to providing universal access to all our events. Please contact Megan Lopez at megan.lopez@childrengrieve.org or at (432) 288-4688 to request disability accommodations. Advance notice is necessary to arrange for some accessibility needs. \nAttendance policy:To earn CEs for this event\, you must attend the entirety of the event as demonstrated by your autogenerated login and logout time on the Zoom Webinar report and complete an online event evaluation within seven (7) days of the event. Please make sure you are signed into Zoom using the name that matches your professional license and not the name of your place of employment\, as there is no way to verify your attendance after the fact if your name does not appear on the Zoom Webinar report. CE certificates will be sent out within 30 days of the educational event. The link for your certificate will come from “certificates@simplecert.net” as the National Alliance for Children’s Grief. Please be sure to add this email to your “safe sender list”. The NACG is unable to process certificates after 90 days from the date of the event.  \nGrievance policy: To view the NACG’s Continuing Education Grievance Policy\, you can find it HERE. Please complete THIS form to share a grievance with the NACG regarding a continuing education event.
URL:https://nacg.org/event/data-and-evaluation-training-series-program-evaluation-basics/
LOCATION:Zoom
CATEGORIES:Live Interactive Webinar
END:VEVENT
BEGIN:VEVENT
DTSTART;TZID=America/New_York:20230831T130000
DTEND;TZID=America/New_York:20230831T140000
DTSTAMP:20260423T045036
CREATED:20230809T143656Z
LAST-MODIFIED:20250221T194910Z
UID:8709-1693486800-1693490400@nacg.org
SUMMARY:Courageous Well-Being Continued: Putting Theory into Practice
DESCRIPTION:This 60-minute session will build on the concepts presented in the first webinar\, Courageous Well-Being\, Finding New Pathways to Personal and Professional Renewal. As professionals and volunteers working with bereaved children and families\, you are well aware of the challenges of your work — vicarious trauma and grief\, burnout\, empathetic distress\, and work/life balance. It is essential to explore the strategies and practices that will help you cope with these issues. This interactive webinar will include writing exercises and practices you can use daily and share with your family and colleagues. Participants of this session should have attended Part I live or reviewed the recording from 7/19. You will need a paper or a journal for this session. \nThis playback is available to active NACG members only. \n \nMembers must be logged into the member portal to access the playback. Not currently a member? Become a NACG member today! Your membership will provide access to free monthly webinars with CEs on current topics to support you in your work\, discounts on educational events\, access to all webinar playbacks\, and more. To learn more and become a member to access this webinar for no additional cost\, visit HERE → \n  \nContinuing Education (CE) credits are not available for webinar playbacks.\nTarget Audience: Counselors\, Social workers\, Bereavement support professionals\nInstructional Level: Basic – This best describes a topic or issue that the prospective audience is encountering for the first time in a meaningful way. \n  \nSpeaker Bio:\nDonna Gaffney\, DNSc\, PMHCNS-BC\, FAAN\, an advanced practice nurse-psychotherapist\, author and educator\, works with individuals\, communities\, and professional nurses in the aftermath of personal and national crises — 9/11\, Hurricane Katrina\, and the Coronavirus pandemic. Donna provides pro-bono psychotherapy through the Emotional PPE Project and facilitates Virtual Schwartz Rounds for the New Jersey Nursing Emotional Well-Being Institute. With extensive experience in classroom\, experiential and online education\, she offers workshops\, presentations and webinars nationally and internationally. Donna has taught and directed graduate programs at the International Trauma Studies Program\, Columbia and Seton Hall Universities. Her webinar series at the beginning of the pandemic\, Healing Ourselves\, While Healing Others\, was offered through Rutgers University School of Nursing and the Northeastern University School Health Academy. In addition to academic papers\, book chapters\, and articles for the lay press\, Donna is the author of The Seasons of Grief\, Helping Children Grow Through Loss. Donna holds graduate degrees from Columbia and Rutgers Universities\, and the University of Pennsylvania. She received the 2021 APNA Award for Excellence in Practice – APRN. In 2023 her book Courageous Well-Being for Nurses will be published by Johns Hopkins University Press. \n  \nNicole C. Foster\, MA\, NBC-HWC is a national board-certified health and wellness coach\, consultant\, and writer. She is Head of Coaching at Lief Therapeutics\, a start-up that offers the only mental health wearable device using HRV-Biofeedback. At the beginning of the COVID-19 pandemic\, she self-published an eBook\, Well-Being in the Waiting: Finding Presence During Unprecedented Times\, and provided complimentary copies to healthcare workers. Nicole collaborates with the With Grace Initiative\, a non-profit organization supporting children with cancer\, providing pro-bono workshops that promote connection\, support\, and psychosocial education in their Warriors of Wellness series. \nShe is a graduate of Columbia University’s Spirituality\, Mind-Body Institute and holds a Master of Arts in Psychology. Her personal essays surrounding the loss of her father in the terrorist attacks of 9/11 have been published in New York Magazine and Maria Shriver’s Sunday Paper. She is the co-author of Courageous Well-Being for Nurses\, to be published by Johns Hopkins University Press in September 2023. Learn more about her work at www.NicoleCFoster.com and @NicoleCFoster on Instagram. \n  \n \nSupported by the philanthropic investment\nof the New York Life Foundation. \n  \n\nRefund/cancellation policy: If you need to cancel your registration\, please contact Megan Lopez at megan.lopez@childrengrieve.org or at (432) 288-4688. Please note that no refunds will be given. \nTo request accessibility accommodations: The National Alliance for Children’s Grief is committed to providing universal access to all our events. Please contact Megan Lopez at megan.lopez@childrengrieve.org or at (432) 288-4688 to request disability accommodations. Advance notice is necessary to arrange for some accessibility needs.
URL:https://nacg.org/event/courageous-well-being-continued-putting-theory-into-practice/
LOCATION:Zoom
CATEGORIES:Live Interactive Webinar,Members Only Playback
END:VEVENT
END:VCALENDAR